BEGIN:VCALENDAR
VERSION:2.0
PRODID:-//Bourne Academy - ECPv6.15.20//NONSGML v1.0//EN
CALSCALE:GREGORIAN
METHOD:PUBLISH
X-ORIGINAL-URL:https://www.bourneacademy.org
X-WR-CALDESC:Events for Bourne Academy
REFRESH-INTERVAL;VALUE=DURATION:PT1H
X-Robots-Tag:noindex
X-PUBLISHED-TTL:PT1H
BEGIN:VTIMEZONE
TZID:Europe/Paris
BEGIN:DAYLIGHT
TZOFFSETFROM:+0100
TZOFFSETTO:+0200
TZNAME:CEST
DTSTART:20230326T010000
END:DAYLIGHT
BEGIN:STANDARD
TZOFFSETFROM:+0200
TZOFFSETTO:+0100
TZNAME:CET
DTSTART:20231029T010000
END:STANDARD
BEGIN:DAYLIGHT
TZOFFSETFROM:+0100
TZOFFSETTO:+0200
TZNAME:CEST
DTSTART:20240331T010000
END:DAYLIGHT
BEGIN:STANDARD
TZOFFSETFROM:+0200
TZOFFSETTO:+0100
TZNAME:CET
DTSTART:20241027T010000
END:STANDARD
BEGIN:DAYLIGHT
TZOFFSETFROM:+0100
TZOFFSETTO:+0200
TZNAME:CEST
DTSTART:20250330T010000
END:DAYLIGHT
BEGIN:STANDARD
TZOFFSETFROM:+0200
TZOFFSETTO:+0100
TZNAME:CET
DTSTART:20251026T010000
END:STANDARD
BEGIN:DAYLIGHT
TZOFFSETFROM:+0100
TZOFFSETTO:+0200
TZNAME:CEST
DTSTART:20260329T010000
END:DAYLIGHT
BEGIN:STANDARD
TZOFFSETFROM:+0200
TZOFFSETTO:+0100
TZNAME:CET
DTSTART:20261025T010000
END:STANDARD
END:VTIMEZONE
BEGIN:VEVENT
DTSTART;TZID=Europe/Paris:20250130T163000
DTEND;TZID=Europe/Paris:20250130T193000
DTSTAMP:20260424T170644
CREATED:20250114T101453Z
LAST-MODIFIED:20250114T101612Z
UID:24980-1738254600-1738265400@www.bourneacademy.org
SUMMARY:Year 11 Parents Evening Virtual / Online
DESCRIPTION:
URL:https://www.bourneacademy.org/event/year-11-parents-evening-virtual-online/
CATEGORIES:Parents Evenings
END:VEVENT
BEGIN:VEVENT
DTSTART;TZID=Europe/Paris:20240516T163000
DTEND;TZID=Europe/Paris:20240516T193000
DTSTAMP:20260424T170644
CREATED:20231019T115239Z
LAST-MODIFIED:20231019T115239Z
UID:19968-1715877000-1715887800@www.bourneacademy.org
SUMMARY:Year 10 Virtual Online Parents Evening
DESCRIPTION:
URL:https://www.bourneacademy.org/event/year-10-virtual-online-parents-evening/
CATEGORIES:Parents Evenings
END:VEVENT
BEGIN:VEVENT
DTSTART;VALUE=DATE:20240425
DTEND;VALUE=DATE:20240426
DTSTAMP:20260424T170644
CREATED:20231019T115009Z
LAST-MODIFIED:20231019T115009Z
UID:19962-1714003200-1714089599@www.bourneacademy.org
SUMMARY:Year 12 Virtual Online Parents Evening
DESCRIPTION:
URL:https://www.bourneacademy.org/event/year-12-virtual-online-parents-evening/
CATEGORIES:Parents Evenings
END:VEVENT
END:VCALENDAR